Package: zellkonverter Version: 1.21.0 Maintainer: Luke Zappia MaintainerEmail: luke at lazappi.id.au git_url: https://git.bioconductor.org/packages/zellkonverter git_branch: devel git_last_commit: f372b16 git_last_commit_date: 2025-10-29 11:01:36 -0400 (Wed, 29 Oct 2025)