Package: xcms Version: 4.9.0 Command: /home/rapidbuild/bbs-3.22-bioc-rapid/R/bin/R CMD INSTALL xcms StartedAt: 2025-10-30 12:22:44 -0400 (Thu, 30 Oct 2025) EndedAt: 2025-10-30 12:23:58 -0400 (Thu, 30 Oct 2025) EllapsedTime: 73.8 seconds RetCode: 0 Status: OK