Package: xcms Version: 4.9.0 Maintainer: Steffen Neumann MaintainerEmail: sneumann at ipb-halle.de git_url: https://git.bioconductor.org/packages/xcms git_branch: devel git_last_commit: 3321e904 git_last_commit_date: 2025-10-29 09:56:19 -0400 (Wed, 29 Oct 2025)