Package: vsn Version: 3.79.0 Maintainer: Wolfgang Huber MaintainerEmail: wolfgang.huber at embl.org git_url: https://git.bioconductor.org/packages/vsn git_branch: devel git_last_commit: c1fc26a git_last_commit_date: 2025-10-29 09:42:11 -0400 (Wed, 29 Oct 2025)