Package: tximport Version: 1.39.0 Maintainer: Michael Love MaintainerEmail: michaelisaiahlove at gmail.com git_url: https://git.bioconductor.org/packages/tximport git_branch: devel git_last_commit: c9364d4 git_last_commit_date: 2025-10-29 10:29:49 -0400 (Wed, 29 Oct 2025)