Package: tkWidgets Version: 1.89.0 Maintainer: J. Zhang MaintainerEmail: jzhang at jimmy.harvard.edu git_url: https://git.bioconductor.org/packages/tkWidgets git_branch: devel git_last_commit: 827eeaa git_last_commit_date: 2025-10-29 09:42:00 -0400 (Wed, 29 Oct 2025)