Package: siggenes Version: 1.85.0 Command: /home/rapidbuild/bbs-3.22-bioc-rapid/R/bin/R CMD INSTALL siggenes StartedAt: 2025-10-30 12:08:39 -0400 (Thu, 30 Oct 2025) EndedAt: 2025-10-30 12:08:47 -0400 (Thu, 30 Oct 2025) EllapsedTime: 8.2 seconds RetCode: 0 Status: OK