Package: siggenes Version: 1.85.0 Command: /home/rapidbuild/bbs-3.22-bioc-rapid/R/bin/R CMD build --keep-empty-dirs --no-resave-data siggenes StartedAt: 2025-10-30 13:04:46 -0400 (Thu, 30 Oct 2025) EndedAt: 2025-10-30 13:05:06 -0400 (Thu, 30 Oct 2025) EllapsedTime: 20.0 seconds RetCode: 0 Status: OK PackageFile: siggenes_1.85.0.tar.gz PackageFileSize: 744.8 KiB