Package: siggenes Version: 1.85.0 Maintainer: Holger Schwender MaintainerEmail: holger.schw at gmx.de git_url: https://git.bioconductor.org/packages/siggenes git_branch: devel git_last_commit: d3b5d6f git_last_commit_date: 2025-10-29 09:53:36 -0400 (Wed, 29 Oct 2025)