############################################################################## ############################################################################## ### ### Running command: ### ### /home/rapidbuild/bbs-3.22-bioc-rapid/R/bin/R CMD INSTALL sesame ### ############################################################################## ############################################################################## * installing to library ‘/media/volume/teran2_disk/rapidbuild/bbs-3.22-bioc-rapid/R/site-library’ * installing *source* package ‘sesame’ ... ** this is package ‘sesame’ version ‘1.29.0’ ** using staged installation ** R ** inst ** byte-compile and prepare package for lazy loading Error: package ‘ExperimentHub’ required by ‘sesameData’ could not be found Execution halted ERROR: lazy loading failed for package ‘sesame’ * removing ‘/media/volume/teran2_disk/rapidbuild/bbs-3.22-bioc-rapid/R/site-library/sesame’ * restoring previous ‘/media/volume/teran2_disk/rapidbuild/bbs-3.22-bioc-rapid/R/site-library/sesame’