Package: sesame Version: 1.29.0 Command: /home/rapidbuild/bbs-3.22-bioc-rapid/R/bin/R CMD check --install=check:sesame.install-out.txt --library=/home/rapidbuild/bbs-3.22-bioc-rapid/R/site-library --timings sesame_1.29.0.tar.gz StartedAt: 2025-10-30 08:15:15 -0400 (Thu, 30 Oct 2025) EndedAt: 2025-10-30 08:27:07 -0400 (Thu, 30 Oct 2025) EllapsedTime: 711.5 seconds RetCode: 0 Status: OK CheckDir: sesame.Rcheck Warnings: 0