Package: sesame Version: 1.29.0 Command: /home/rapidbuild/bbs-3.22-bioc-rapid/R/bin/R CMD build --keep-empty-dirs --no-resave-data sesame StartedAt: 2025-10-30 13:04:43 -0400 (Thu, 30 Oct 2025) EndedAt: 2025-10-30 13:04:44 -0400 (Thu, 30 Oct 2025) EllapsedTime: 1.0 seconds RetCode: 1 Status: ERROR PackageFile: None PackageFileSize: NA