Package: scrapper Version: 1.5.0 Maintainer: Aaron Lun MaintainerEmail: infinite.monkeys.with.keyboards at gmail.com git_url: https://git.bioconductor.org/packages/scrapper git_branch: devel git_last_commit: 69ac952 git_last_commit_date: 2025-10-29 11:32:02 -0400 (Wed, 29 Oct 2025)