Package: scater Version: 1.37.0 Command: /home/rapidbuild/bbs-3.22-bioc-rapid/R/bin/R CMD check --install=check:scater.install-out.txt --library=/home/rapidbuild/bbs-3.22-bioc-rapid/R/site-library --timings scater_1.37.0.tar.gz StartedAt: 2025-10-25 21:09:03 -0400 (Sat, 25 Oct 2025) EndedAt: 2025-10-25 21:16:06 -0400 (Sat, 25 Oct 2025) EllapsedTime: 422.6 seconds RetCode: 0 Status: OK CheckDir: scater.Rcheck Warnings: 0