Package: scater Version: 1.39.0 Command: /home/rapidbuild/bbs-3.22-bioc-rapid/R/bin/R CMD build --keep-empty-dirs --no-resave-data scater StartedAt: 2025-10-30 13:02:46 -0400 (Thu, 30 Oct 2025) EndedAt: 2025-10-30 13:03:20 -0400 (Thu, 30 Oct 2025) EllapsedTime: 34.0 seconds RetCode: 1 Status: ERROR PackageFile: None PackageFileSize: NA