############################################################################## ############################################################################## ### ### Running command: ### ### /home/rapidbuild/bbs-3.22-bioc-rapid/R/bin/R CMD build --keep-empty-dirs --no-resave-data rtracklayer ### ############################################################################## ############################################################################## * checking for file ‘rtracklayer/DESCRIPTION’ ... OK * preparing ‘rtracklayer’: * checking DESCRIPTION meta-information ... OK * cleaning src * running ‘cleanup’ * installing the package to build vignettes ----------------------------------- ERROR: dependency ‘GenomicAlignments’ is not available for package ‘rtracklayer’ Perhaps try a variation of: install.packages('GenomicAlignments') * removing ‘/tmp/RtmpfKss9B/Rinst21eeb960ce0b87/rtracklayer’ ----------------------------------- ERROR: package installation failed