Package: rtracklayer Version: 1.71.0 Maintainer: Michael Lawrence MaintainerEmail: lawremi at gmail.com git_url: https://git.bioconductor.org/packages/rtracklayer git_branch: devel git_last_commit: 65cde22 git_last_commit_date: 2025-10-29 10:00:29 -0400 (Wed, 29 Oct 2025)