Package: qvalue Version: 2.43.0 Maintainer: John D. Storey , Andrew J. Bass MaintainerEmail: ajbass at emory.edu git_url: https://git.bioconductor.org/packages/qvalue git_branch: devel git_last_commit: b7507f6 git_last_commit_date: 2025-10-29 09:54:23 -0400 (Wed, 29 Oct 2025)