Package: pwalign Version: 1.7.0 Command: /home/rapidbuild/bbs-3.22-bioc-rapid/R/bin/R CMD check --install=check:pwalign.install-out.txt --library=/home/rapidbuild/bbs-3.22-bioc-rapid/R/site-library --timings pwalign_1.7.0.tar.gz StartedAt: 2025-10-30 13:52:53 -0400 (Thu, 30 Oct 2025) EndedAt: 2025-10-30 13:54:39 -0400 (Thu, 30 Oct 2025) EllapsedTime: 105.3 seconds RetCode: 0 Status: OK CheckDir: pwalign.Rcheck Warnings: 0