Package: pcaMethods Version: 2.3.0 Command: /home/rapidbuild/bbs-3.22-bioc-rapid/R/bin/R CMD INSTALL pcaMethods StartedAt: 2025-10-30 12:08:40 -0400 (Thu, 30 Oct 2025) EndedAt: 2025-10-30 12:08:50 -0400 (Thu, 30 Oct 2025) EllapsedTime: 10.2 seconds RetCode: 0 Status: OK