Package: pcaMethods Version: 2.3.0 Maintainer: Henning Redestig MaintainerEmail: henning.red at gmail.com git_url: https://git.bioconductor.org/packages/pcaMethods git_branch: devel git_last_commit: 8787174 git_last_commit_date: 2025-10-29 09:58:32 -0400 (Wed, 29 Oct 2025)