Package: openCyto Version: 2.23.0 Command: /home/rapidbuild/bbs-3.22-bioc-rapid/R/bin/R CMD INSTALL openCyto StartedAt: 2025-10-30 12:22:13 -0400 (Thu, 30 Oct 2025) EndedAt: 2025-10-30 12:22:35 -0400 (Thu, 30 Oct 2025) EllapsedTime: 22.7 seconds RetCode: 0 Status: OK