Package: mzR Version: 2.45.0 Command: /home/rapidbuild/bbs-3.22-bioc-rapid/R/bin/R CMD INSTALL mzR StartedAt: 2025-10-30 12:11:08 -0400 (Thu, 30 Oct 2025) EndedAt: 2025-10-30 12:17:33 -0400 (Thu, 30 Oct 2025) EllapsedTime: 385.8 seconds RetCode: 0 Status: OK