Package: mzID Version: 1.49.0 Command: /home/rapidbuild/bbs-3.22-bioc-rapid/R/bin/R CMD build --keep-empty-dirs --no-resave-data mzID StartedAt: 2025-10-30 12:51:58 -0400 (Thu, 30 Oct 2025) EndedAt: 2025-10-30 12:52:05 -0400 (Thu, 30 Oct 2025) EllapsedTime: 7.0 seconds RetCode: 0 Status: OK PackageFile: mzID_1.49.0.tar.gz PackageFileSize: 582.1 KiB