Package: mzID Version: 1.49.0 Maintainer: Laurent Gatto MaintainerEmail: laurent.gatto at uclouvain.be git_url: https://git.bioconductor.org/packages/mzID git_branch: devel git_last_commit: 0eea35c git_last_commit_date: 2025-10-29 10:16:21 -0400 (Wed, 29 Oct 2025)