Package: multtest Version: 2.67.0 Maintainer: Katherine S. Pollard MaintainerEmail: katherine.pollard at gladstone.ucsf.edu git_url: https://git.bioconductor.org/packages/multtest git_branch: devel git_last_commit: 877b1b4 git_last_commit_date: 2025-10-29 09:41:53 -0400 (Wed, 29 Oct 2025)