Package: minfi Version: 1.55.1 Command: /home/rapidbuild/bbs-3.22-bioc-rapid/R/bin/R CMD check --install=check:minfi.install-out.txt --library=/home/rapidbuild/bbs-3.22-bioc-rapid/R/site-library --timings minfi_1.55.1.tar.gz StartedAt: 2025-10-25 20:46:18 -0400 (Sat, 25 Oct 2025) EndedAt: 2025-10-25 20:52:43 -0400 (Sat, 25 Oct 2025) EllapsedTime: 385.1 seconds RetCode: 0 Status: OK CheckDir: minfi.Rcheck Warnings: 0