Package: minfi Version: 1.57.0 Maintainer: Kasper Daniel Hansen MaintainerEmail: kasperdanielhansen at gmail.com git_url: https://git.bioconductor.org/packages/minfi git_branch: devel git_last_commit: 36249fb git_last_commit_date: 2025-10-29 10:09:18 -0400 (Wed, 29 Oct 2025)