Package: minet Version: 3.69.0 Command: /home/rapidbuild/bbs-3.22-bioc-rapid/R/bin/R CMD check --install=check:minet.install-out.txt --library=/home/rapidbuild/bbs-3.22-bioc-rapid/R/site-library --timings minet_3.69.0.tar.gz StartedAt: 2025-10-30 13:47:07 -0400 (Thu, 30 Oct 2025) EndedAt: 2025-10-30 13:47:18 -0400 (Thu, 30 Oct 2025) EllapsedTime: 11.3 seconds RetCode: 0 Status: OK CheckDir: minet.Rcheck Warnings: 0