Package: minet Version: 3.69.0 Maintainer: Patrick E. Meyer MaintainerEmail: software at meyerp.com git_url: https://git.bioconductor.org/packages/minet git_branch: devel git_last_commit: 46d68a0 git_last_commit_date: 2025-10-29 10:01:00 -0400 (Wed, 29 Oct 2025)