Package: metapod Version: 1.19.0 Command: /home/rapidbuild/bbs-3.22-bioc-rapid/R/bin/R CMD build --keep-empty-dirs --no-resave-data metapod StartedAt: 2025-10-30 12:48:55 -0400 (Thu, 30 Oct 2025) EndedAt: 2025-10-30 12:49:14 -0400 (Thu, 30 Oct 2025) EllapsedTime: 19.0 seconds RetCode: 0 Status: OK PackageFile: metapod_1.19.0.tar.gz PackageFileSize: 324 KiB