Package: metagenomeSeq Version: 1.53.0 Maintainer: Joseph N. Paulson MaintainerEmail: josephpaulson at gmail.com git_url: https://git.bioconductor.org/packages/metagenomeSeq git_branch: devel git_last_commit: 48a74a4 git_last_commit_date: 2025-10-29 10:14:26 -0400 (Wed, 29 Oct 2025)