Package: lpsymphony Version: 1.39.0 Command: /home/rapidbuild/bbs-3.22-bioc-rapid/R/bin/R CMD check --install=check:lpsymphony.install-out.txt --library=/home/rapidbuild/bbs-3.22-bioc-rapid/R/site-library --timings lpsymphony_1.39.0.tar.gz StartedAt: 2025-10-30 13:44:48 -0400 (Thu, 30 Oct 2025) EndedAt: 2025-10-30 13:45:08 -0400 (Thu, 30 Oct 2025) EllapsedTime: 20.0 seconds RetCode: 0 Status: WARNINGS CheckDir: lpsymphony.Rcheck Warnings: 1