Package: lpsymphony Version: 1.39.0 Maintainer: Vladislav Kim MaintainerEmail: Vladislav.Kim at embl.de git_url: https://git.bioconductor.org/packages/lpsymphony git_branch: devel git_last_commit: 83b7089 git_last_commit_date: 2025-10-29 10:29:12 -0400 (Wed, 29 Oct 2025)