Package: karyoploteR Version: 1.35.3 Command: /home/rapidbuild/bbs-3.22-bioc-rapid/R/bin/R CMD check --install=check:karyoploteR.install-out.txt --library=/home/rapidbuild/bbs-3.22-bioc-rapid/R/site-library --timings karyoploteR_1.35.3.tar.gz StartedAt: 2025-10-25 20:40:12 -0400 (Sat, 25 Oct 2025) EndedAt: 2025-10-25 20:47:43 -0400 (Sat, 25 Oct 2025) EllapsedTime: 450.7 seconds RetCode: 0 Status: OK CheckDir: karyoploteR.Rcheck Warnings: 0