############################################################################## ############################################################################## ### ### Running command: ### ### /home/rapidbuild/bbs-3.22-bioc-rapid/R/bin/R CMD build --keep-empty-dirs --no-resave-data karyoploteR ### ############################################################################## ############################################################################## * checking for file ‘karyoploteR/DESCRIPTION’ ... OK * preparing ‘karyoploteR’: * checking DESCRIPTION meta-information ... OK * installing the package to build vignettes ----------------------------------- ERROR: dependencies ‘regioneR’, ‘rtracklayer’, ‘biovizBase’, ‘GenomicFeatures’, ‘VariantAnnotation’ are not available for package ‘karyoploteR’ Perhaps try a variation of: install.packages(c('regioneR', 'rtracklayer', 'biovizBase', 'GenomicFeatures', 'VariantAnnotation')) * removing ‘/tmp/Rtmpby29pq/Rinst1fd2f51074762b/karyoploteR’ ----------------------------------- ERROR: package installation failed