Package: karyoploteR Version: 1.37.0 Maintainer: Bernat Gel MaintainerEmail: bgel at igtp.cat git_url: https://git.bioconductor.org/packages/karyoploteR git_branch: devel git_last_commit: fd32b1e git_last_commit_date: 2025-10-29 10:36:38 -0400 (Wed, 29 Oct 2025)