Package: interactiveDisplayBase Version: 1.49.0 Command: /home/rapidbuild/bbs-3.22-bioc-rapid/R/bin/R CMD INSTALL interactiveDisplayBase StartedAt: 2025-10-30 12:12:58 -0400 (Thu, 30 Oct 2025) EndedAt: 2025-10-30 12:13:01 -0400 (Thu, 30 Oct 2025) EllapsedTime: 3.0 seconds RetCode: 0 Status: OK