Package: interactiveDisplay Version: 1.49.0 Command: /home/rapidbuild/bbs-3.22-bioc-rapid/R/bin/R CMD build --keep-empty-dirs --no-resave-data interactiveDisplay StartedAt: 2025-10-30 12:45:55 -0400 (Thu, 30 Oct 2025) EndedAt: 2025-10-30 12:46:35 -0400 (Thu, 30 Oct 2025) EllapsedTime: 40.3 seconds RetCode: 0 Status: OK PackageFile: interactiveDisplay_1.49.0.tar.gz PackageFileSize: 4.562 MiB