Package: impute Version: 1.85.0 Maintainer: Balasubramanian Narasimhan MaintainerEmail: naras at stat.Stanford.EDU git_url: https://git.bioconductor.org/packages/impute git_branch: devel git_last_commit: 8e9dc99 git_last_commit_date: 2025-10-29 09:54:25 -0400 (Wed, 29 Oct 2025)