Package: hpar Version: 1.53.0 Command: /home/rapidbuild/bbs-3.22-bioc-rapid/R/bin/R CMD check --install=check:hpar.install-out.txt --library=/home/rapidbuild/bbs-3.22-bioc-rapid/R/site-library --timings hpar_1.53.0.tar.gz StartedAt: 2025-10-30 07:52:10 -0400 (Thu, 30 Oct 2025) EndedAt: 2025-10-30 07:53:42 -0400 (Thu, 30 Oct 2025) EllapsedTime: 92.0 seconds RetCode: 0 Status: OK CheckDir: hpar.Rcheck Warnings: 0