############################################################################## ############################################################################## ### ### Running command: ### ### /home/rapidbuild/bbs-3.22-bioc-rapid/R/bin/R CMD build --keep-empty-dirs --no-resave-data hpar ### ############################################################################## ############################################################################## * checking for file ‘hpar/DESCRIPTION’ ... OK * preparing ‘hpar’: * checking DESCRIPTION meta-information ... OK * installing the package to build vignettes ----------------------------------- ERROR: dependency ‘ExperimentHub’ is not available for package ‘hpar’ Perhaps try a variation of: install.packages('ExperimentHub') * removing ‘/tmp/Rtmp5D7ULo/Rinst1fc7a579af9de1/hpar’ ----------------------------------- ERROR: package installation failed