Package: hpar Version: 1.53.0 Maintainer: Laurent Gatto MaintainerEmail: laurent.gatto at uclouvain.be git_url: https://git.bioconductor.org/packages/hpar git_branch: devel git_last_commit: 55567a4 git_last_commit_date: 2025-10-29 10:12:05 -0400 (Wed, 29 Oct 2025)