Package: h5mread Version: 1.3.0 Command: /home/rapidbuild/bbs-3.22-bioc-rapid/R/bin/R CMD INSTALL h5mread StartedAt: 2025-10-30 12:12:57 -0400 (Thu, 30 Oct 2025) EndedAt: 2025-10-30 12:13:13 -0400 (Thu, 30 Oct 2025) EllapsedTime: 15.8 seconds RetCode: 0 Status: OK