Package: h5mread Version: 1.3.0 Command: /home/rapidbuild/bbs-3.22-bioc-rapid/R/bin/R CMD build --keep-empty-dirs --no-resave-data h5mread StartedAt: 2025-10-30 12:44:45 -0400 (Thu, 30 Oct 2025) EndedAt: 2025-10-30 12:46:55 -0400 (Thu, 30 Oct 2025) EllapsedTime: 130.4 seconds RetCode: 0 Status: OK PackageFile: h5mread_1.3.0.tar.gz PackageFileSize: 2.367 MiB