Package: h5mread Version: 1.3.0 Maintainer: Hervé Pagès MaintainerEmail: hpages.on.github at gmail.com git_url: https://git.bioconductor.org/packages/h5mread git_branch: devel git_last_commit: 376f55f git_last_commit_date: 2025-10-29 14:49:58 -0400 (Wed, 29 Oct 2025)