Package: gwascat Version: 2.43.0 Maintainer: VJ Carey MaintainerEmail: stvjc at channing.harvard.edu git_url: https://git.bioconductor.org/packages/gwascat git_branch: devel git_last_commit: ec24f27 git_last_commit_date: 2025-10-29 10:10:23 -0400 (Wed, 29 Oct 2025)