Package: graph Version: 1.89.0 Command: /home/rapidbuild/bbs-3.22-bioc-rapid/R/bin/R CMD build --keep-empty-dirs --no-resave-data graph StartedAt: 2025-10-30 12:44:16 -0400 (Thu, 30 Oct 2025) EndedAt: 2025-10-30 12:44:37 -0400 (Thu, 30 Oct 2025) EllapsedTime: 21.6 seconds RetCode: 0 Status: OK PackageFile: graph_1.89.0.tar.gz PackageFileSize: 1.429 MiB