Package: ggtreeExtra Version: 1.21.0 Command: /home/rapidbuild/bbs-3.22-bioc-rapid/R/bin/R CMD build --keep-empty-dirs --no-resave-data ggtreeExtra StartedAt: 2025-10-30 12:43:14 -0400 (Thu, 30 Oct 2025) EndedAt: 2025-10-30 12:43:29 -0400 (Thu, 30 Oct 2025) EllapsedTime: 15.0 seconds RetCode: 0 Status: OK PackageFile: ggtreeExtra_1.21.0.tar.gz PackageFileSize: 526.5 KiB