Package: ggtreeExtra Version: 1.21.0 Maintainer: Shuangbin Xu MaintainerEmail: xshuangbin at 163.com git_url: https://git.bioconductor.org/packages/ggtreeExtra git_branch: devel git_last_commit: 0f8e990 git_last_commit_date: 2025-10-29 11:01:03 -0400 (Wed, 29 Oct 2025)